BEGIN:VCALENDAR
VERSION:2.0
PRODID:-//Tukios.com/
BEGIN:VEVENT
UID:0941f90f-d001-49aa-afd8-d38854e698c7@www.miguezfuneralhome.com
DTSTAMP:20260422T191935Z
DTSTART:20260424T163000Z
DTEND:20260424T180000Z
SUMMARY:Public Viewing
DESCRIPTION:
URL:https://www.miguezfuneralhome.com/obituaries/lenora-mallett
LOCATION:Miguez Funeral Home 114 E. Shankland Avenue  Jennings LA 70546
GEO:30.231813;-92.6571619
END:VEVENT
END:VCALENDAR