BEGIN:VCALENDAR
VERSION:2.0
PRODID:-//Tukios.com/
BEGIN:VEVENT
UID:b3f11a01-73ad-47d1-b3a7-7d9f755d7e94@www.miguezfuneralhome.com
DTSTAMP:20260422T191717Z
DTSTART:20260424T180000Z
DTEND:20260424T182000Z
SUMMARY:Rosary
DESCRIPTION:
URL:https://www.miguezfuneralhome.com/obituaries/lenora-mallett
LOCATION:Miguez Funeral Home 114 E. Shankland Avenue  Jennings LA 70546
GEO:30.231813;-92.6571619
END:VEVENT
END:VCALENDAR