BEGIN:VCALENDAR
VERSION:2.0
PRODID:-//Tukios.com/
BEGIN:VEVENT
UID:dec4f71b-5843-4625-9671-11745bd9e02e@www.miguezfuneralhome.com
DTSTAMP:20260422T191643Z
DTSTART:20260424T190000Z
DTEND:20260424T191500Z
SUMMARY:Graveside Service
DESCRIPTION:
URL:https://www.miguezfuneralhome.com/obituaries/lenora-mallett
LOCATION:     
GEO:0;0
END:VEVENT
END:VCALENDAR