BEGIN:VCALENDAR
VERSION:2.0
PRODID:-//Tukios.com/
BEGIN:VEVENT
UID:6e0428b2-8cf0-438d-8707-89cc4e3a978e@www.miguezfuneralhome.com
DTSTAMP:20260420T214440Z
DTSTART:20260421T163000Z
DTEND:20260421T170000Z
SUMMARY:Memorial Service
DESCRIPTION:
URL:https://www.miguezfuneralhome.com/obituaries/eric-jeanise
LOCATION:Miguez Funeral Home 114 E. Shankland Avenue  Jennings LA 70546
GEO:30.231813;-92.6571619
END:VEVENT
END:VCALENDAR