BEGIN:VCALENDAR
VERSION:2.0
PRODID:-//Tukios.com/
BEGIN:VEVENT
UID:4dad64d4-294e-4da1-ba58-d87c9eb763e6@www.miguezfuneralhome.com
DTSTAMP:20260420T214016Z
DTSTART:20260421T150000Z
DTEND:20260421T163000Z
SUMMARY:Gathering of Friends
DESCRIPTION:
URL:https://www.miguezfuneralhome.com/obituaries/eric-jeanise
LOCATION:     
GEO:0;0
END:VEVENT
END:VCALENDAR