BEGIN:VCALENDAR
VERSION:2.0
PRODID:-//Tukios.com/
BEGIN:VEVENT
UID:fa9d2de4-9910-41cd-befe-f913bfd0b8a9@www.miguezfuneralhome.com
DTSTAMP:20260422T222610Z
DTSTART:20260425T184500Z
DTEND:20260425T190000Z
SUMMARY:Burial
DESCRIPTION:
URL:https://www.miguezfuneralhome.com/obituaries/annie-broussard
LOCATION:  Roberts Avenue  Jennings LA 70546
GEO:30.2338713;-92.6507819
END:VEVENT
END:VCALENDAR