BEGIN:VCALENDAR
VERSION:2.0
PRODID:-//Tukios.com/
BEGIN:VEVENT
UID:9d47d603-934b-4199-9638-410476673cf9@www.miguezfuneralhome.com
DTSTAMP:20260422T223039Z
DTSTART:20260425T140000Z
DTEND:20260425T173000Z
SUMMARY:Public Viewing
DESCRIPTION:
URL:https://www.miguezfuneralhome.com/obituaries/annie-broussard
LOCATION:Miguez Funeral Home 114 E. Shankland Avenue  Jennings LA 70546
GEO:30.231813;-92.6571619
END:VEVENT
END:VCALENDAR