BEGIN:VCALENDAR
VERSION:2.0
PRODID:-//Tukios.com/
BEGIN:VEVENT
UID:d2122a2b-6b85-4815-9214-ea19f10e6308@www.miguezfuneralhome.com
DTSTAMP:20260422T222642Z
DTSTART:20260425T173000Z
DTEND:20260425T180000Z
SUMMARY:Rosary
DESCRIPTION:
URL:https://www.miguezfuneralhome.com/obituaries/annie-broussard
LOCATION:Miguez Funeral Home 114 E. Shankland Avenue  Jennings LA 70546
GEO:30.231813;-92.6571619
END:VEVENT
END:VCALENDAR