BEGIN:VCALENDAR
VERSION:2.0
PRODID:-//Tukios.com/
BEGIN:VEVENT
UID:710e4c3c-2fd1-40f8-b4be-18f1d408fa7c@www.miguezfuneralhome.com
DTSTAMP:20260422T223147Z
DTSTART:20260425T180000Z
DTEND:20260425T183000Z
SUMMARY:Funeral Service
DESCRIPTION:
URL:https://www.miguezfuneralhome.com/obituaries/annie-broussard
LOCATION:Miguez Funeral Home 114 E. Shankland Avenue  Jennings LA 70546
GEO:30.231813;-92.6571619
END:VEVENT
END:VCALENDAR